BEGIN:VCALENDAR
PRODID:-//FARO Inc//EN
VERSION:2.0
METHOD:PUBLISH
BEGIN:VEVENT
DTSTART:20260519T170000Z
DTEND:20260519T180000Z
DTSTAMP:20260420T150516Z
UID:7770e33d-12a8-4188-b110-3149c8cb8eb4
CREATED:20260420T150516Z
X-ALT-DESC;FMTTYPE=text/html:
DESCRIPTION:
LAST-MODIFIED:20260420T150516Z
LOCATION:Virtual Event
STATUS:CONFIRMED
SUMMARY:Streamlining Scene Documentation with Blink and Zone
TRANSP:OPAQUE
END:VEVENT
END:VCALENDAR
