BEGIN:VCALENDAR
PRODID:-//FARO Inc//FR-FR
VERSION:2.0
METHOD:PUBLISH
BEGIN:VEVENT
DTSTART:20251106T083000Z
DTEND:20251106T123000Z
DTSTAMP:20260420T153018Z
UID:bdc02712-a1da-43c4-980f-f7ce052e7686
CREATED:20260420T153018Z
X-ALT-DESC;FMTTYPE=text/html:<p>Découvrez comment Blink<sup>&trade\;</sup> propose:</p>\n\n<ul>\n<li>Des numérisations rapides et précises avec une prise en main rapide</li>\n<li>Des flux de travail guidés avec feedback en temps réel</li>\n<li>Une collaboration basée sur le cloud et un suivi visuel des progrès</li>\n</ul>\n\n<strong>Lieu</strong><br />\n<p />ART Grand Prix\, 17 Rue Clément ADER\, 91280 Saint-Pierre-du-Perray\, France<br />\n\n<p>\n<a href="https://www.google.com/maps/dir//Art+Grand+Prix\,+17+Rue+Cl%C3%A9ment+ADER\,+91280+Saint-Pierre-du-Perray\,+Fran%C3%A7a/@48.6163834\,2.4408543\,15193m/data=!3m1!1e3!4m9!4m8!1m0!1m5!1m1!1s0x47ef6a6594b4583d:0xd03ae7c74164f373!2m2!1d2.5232556!2d48.6164128!3e0?entry=ttu&g_ep=EgoyMDI1MTAwOC4wIKXMDSoASAFQAw%3D%3D">Instructions</a></p>\n<p>&nbsp\;</p>\n\n<p>Cliquez <a href="https://www.faro.com/fr-FR/Events-Library/Workshop/2025/11062025-Blink-WKSP-FRA">ici</a> pour consulter les détails de l'événement.</p>
DESCRIPTION:Découvrez comment Blink&trade\; propose:\n\n\nDes numérisations rapides et précises avec une prise en main rapide\nDes flux de travail guidés avec feedback en temps réel\nUne collaboration basée sur le cloud et un suivi visuel des progrès\n\n\nLieu\nART Grand Prix\, 17 Rue Clément ADER\, 91280 Saint-Pierre-du-Perray\, France\n\n\nInstructions\n&nbsp\;\n\nCliquez ici pour consulter les détails de l'événement.
LAST-MODIFIED:20260420T153018Z
LOCATION:Saint-Pierre-du-Perray, France
STATUS:CONFIRMED
SUMMARY:Du site aux aperçus en un clin d’œil
TRANSP:OPAQUE
END:VEVENT
END:VCALENDAR
